BEGIN:VCALENDAR
VERSION:2.0
PRODID:-//Karuna Buddhist Center - ECPv6.15.20//NONSGML v1.0//EN
CALSCALE:GREGORIAN
METHOD:PUBLISH
X-WR-CALNAME:Karuna Buddhist Center
X-ORIGINAL-URL:https://karunabuddhistcenter.org
X-WR-CALDESC:Events for Karuna Buddhist Center
REFRESH-INTERVAL;VALUE=DURATION:PT1H
X-Robots-Tag:noindex
X-PUBLISHED-TTL:PT1H
BEGIN:VTIMEZONE
TZID:America/New_York
BEGIN:DAYLIGHT
TZOFFSETFROM:-0500
TZOFFSETTO:-0400
TZNAME:EDT
DTSTART:20240310T070000
END:DAYLIGHT
BEGIN:STANDARD
TZOFFSETFROM:-0400
TZOFFSETTO:-0500
TZNAME:EST
DTSTART:20241103T060000
END:STANDARD
BEGIN:DAYLIGHT
TZOFFSETFROM:-0500
TZOFFSETTO:-0400
TZNAME:EDT
DTSTART:20250309T070000
END:DAYLIGHT
BEGIN:STANDARD
TZOFFSETFROM:-0400
TZOFFSETTO:-0500
TZNAME:EST
DTSTART:20251102T060000
END:STANDARD
BEGIN:DAYLIGHT
TZOFFSETFROM:-0500
TZOFFSETTO:-0400
TZNAME:EDT
DTSTART:20260308T070000
END:DAYLIGHT
BEGIN:STANDARD
TZOFFSETFROM:-0400
TZOFFSETTO:-0500
TZNAME:EST
DTSTART:20261101T060000
END:STANDARD
END:VTIMEZONE
BEGIN:VEVENT
DTSTART;TZID=America/New_York:20250301T110000
DTEND;TZID=America/New_York:20250301T130000
DTSTAMP:20260419T153136
CREATED:20250213T222113Z
LAST-MODIFIED:20250213T222113Z
UID:1428-1740826800-1740834000@karunabuddhistcenter.org
SUMMARY:Losar Celebration
DESCRIPTION:Prayers\, February 28\, 11:00am-noon \nOpen House\, March 1\, 11:00am-1:00pm \nTraditional prayers will be offered on Friday\, February 28\, 11:00am-noon. Light lamps and offer prayers for personal and community wishes. \nThe open House on Saturday\, March 1\, from 11-1\, will feature door prizes\, good company\, and of course\, food\, which will be catered by Thai Spoon. Meet our teachers and sangha\, as well as special guests from the local university\, non-profit\, and faith communities. Everyone is welcome\, bring your family and friends!
URL:https://karunabuddhistcenter.org/event/losar-celebration/
LOCATION:Karuna Buddhist Center\, 423 S. 4th Avenue\, Ann Arbor\, MI
ATTACH;FMTTYPE=image/png:https://karunabuddhistcenter.org/wp-content/uploads/2025/01/Losar-2025-6-x-4-in.png
END:VEVENT
END:VCALENDAR